BEGIN:VCALENDAR
VERSION:2.0
PRODID:-//Inclusion Alberta - ECPv6.11.2//NONSGML v1.0//EN
CALSCALE:GREGORIAN
METHOD:PUBLISH
X-ORIGINAL-URL:https://inclusionalberta.org
X-WR-CALDESC:Events for Inclusion Alberta
REFRESH-INTERVAL;VALUE=DURATION:PT1H
X-Robots-Tag:noindex
X-PUBLISHED-TTL:PT1H
BEGIN:VTIMEZONE
TZID:America/Edmonton
BEGIN:DAYLIGHT
TZOFFSETFROM:-0700
TZOFFSETTO:-0600
TZNAME:MDT
DTSTART:20260308T090000
END:DAYLIGHT
BEGIN:STANDARD
TZOFFSETFROM:-0600
TZOFFSETTO:-0700
TZNAME:MST
DTSTART:20261101T080000
END:STANDARD
END:VTIMEZONE
BEGIN:VEVENT
DTSTART;TZID=America/Edmonton:20260704T080000
DTEND;TZID=America/Edmonton:20260704T170000
DTSTAMP:20260423T005204
CREATED:20260414T161016Z
LAST-MODIFIED:20260415T220722Z
UID:6987-1783152000-1783184400@inclusionalberta.org
SUMMARY:2026 Koch Classic Golf Tournament
DESCRIPTION:Join us on Saturday\, July 4th\, 2026 at the Ranch Golf and Country Club in Edmonton for The 7th Annual Koch Classic Golf Tournament! This tournament raises funds for the Hannah Gunderson Memorial Fund\, administered by Inclusion Alberta. \nRegistration fee is $195/golfer. Texas scramble with an 8am shotgun start. \nRegister online and learn more about sponsorship opportunities at: http://weblink.donorperfect.com/KochClassic2026 \nAbout the Hannah Gunderson Memorial Fund: \nThe Hannah Gunderson Memorial Fund is administered by Inclusion Alberta and provides financial support to students with intellectual disabilities aspiring to pursue Inclusive Post-Secondary Education\, but are unable to due to financial barriers. Due to these funds\, students have the opportunity to learn and develop new skills alongside their peers\, create and maintain valuable relationships\, and contribute to campus life. Your contribution guarantees more students are able to gain knowledge and professional development experiences related to their career ambitions\, setting them up for success and improving the projection of their future. Post-Secondary education is life changing for individuals supported by this fund\, with 70-80% of the students reaching positive employment outcomes. Alberta has the highest number of fully inclusive post-secondary opportunities for students with intellectual disabilities\, more than any other jurisdiction in the world\, helping individuals reach their full potential and contribute their passions and experiences.
URL:https://inclusionalberta.org/event/2026-koch-classic-golf-tournament/
LOCATION:The Ranch Golf & Country Club\, 9574 Pinchback Rd\, Acheson\, Alberta\, T7X 5A2\, Canada
END:VEVENT
END:VCALENDAR