BEGIN:VCALENDAR
VERSION:2.0
PRODID:-//Inclusion Alberta - ECPv6.11.2//NONSGML v1.0//EN
CALSCALE:GREGORIAN
METHOD:PUBLISH
X-ORIGINAL-URL:https://inclusionalberta.org
X-WR-CALDESC:Events for Inclusion Alberta
REFRESH-INTERVAL;VALUE=DURATION:PT1H
X-Robots-Tag:noindex
X-PUBLISHED-TTL:PT1H
BEGIN:VTIMEZONE
TZID:America/Edmonton
BEGIN:DAYLIGHT
TZOFFSETFROM:-0700
TZOFFSETTO:-0600
TZNAME:MDT
DTSTART:20200308T090000
END:DAYLIGHT
BEGIN:STANDARD
TZOFFSETFROM:-0600
TZOFFSETTO:-0700
TZNAME:MST
DTSTART:20201101T080000
END:STANDARD
BEGIN:DAYLIGHT
TZOFFSETFROM:-0700
TZOFFSETTO:-0600
TZNAME:MDT
DTSTART:20210314T090000
END:DAYLIGHT
BEGIN:STANDARD
TZOFFSETFROM:-0600
TZOFFSETTO:-0700
TZNAME:MST
DTSTART:20211107T080000
END:STANDARD
END:VTIMEZONE
BEGIN:VEVENT
DTSTART;VALUE=DATE:20210916
DTEND;VALUE=DATE:20210917
DTSTAMP:20260423T105207
CREATED:20210603T183538Z
LAST-MODIFIED:20210603T183538Z
UID:3532-1631750400-1631836799@inclusionalberta.org
SUMMARY:2nd Annual Peter Lee Golf Classic
DESCRIPTION:Join us for the 2nd Annual Peter Lee Golf Classic at The Links at Spruce Grove on September 16th\, 2021! All proceeds will be generously donated to Inclusion Alberta. \nTo register\, fill out this registration form and email it to peterleeclassic@fosterpark.ca \n \n 
URL:https://inclusionalberta.org/event/2nd-annual-peter-lee-golf-classic/
LOCATION:Links at Spruce Grove\, 100 Links Rd\, Spruce Grove\, Alberta\, T7X 3B4\, Canada
CATEGORIES:Other
END:VEVENT
BEGIN:VEVENT
DTSTART;TZID=America/Edmonton:20201114T100000
DTEND;TZID=America/Edmonton:20201114T140000
DTSTAMP:20260423T105207
CREATED:20201007T184353Z
LAST-MODIFIED:20201007T184353Z
UID:2870-1605348000-1605362400@inclusionalberta.org
SUMMARY:Inclusion Alberta Youth Conference
DESCRIPTION:  \nInclusion Alberta Youth presents the 2020 Youth Conference! This year’s theme is Global Inclusion: The Cross-Cultural Impact of Belonging. \nParticipants will walk away with a greater understanding of what inclusion looks like across different cultures and how they can facilitate meaningful connections with their peers and community during COVID-19 (and beyond) \nDate: November 14th (10:00am – 2:00pm) \nLocation: Zoom \nAge range: 16-22 (some exceptions apply\, please contact us if you have someone in mind) \nWho would be a good fit for the conference? \n\nYouth who would enjoy this event: youth interested in activism\, leadership\, social justice\, equality/equity\, human rights\, siblings of youth with developmental disabilities\, youth-aged FMS/FSCD workers\, youth interested in making change\, etc.\n\nVisit Inclusion Alberta Youth on Facebook \nClick here for tickets \n\n$10 (+taxes and fees\, standard ticket)\ngeneral admission\, grant\, and individual support person ticket sales close on November 9th\, 11:30pm\ngrant tickets are available\, though they are limited in quantity and subject to approval. Please contact us for more information.\ntickets include all workshops\, materials\, and lunch\nRSVPs/Tickets: Mandatory (tickets already only cover a small fraction of our costs\, so we want to make sure we have an accurate headcount for ordering food\, etc.)\n\nTentative Workshops: \n\nIndigenous perspective on inclusion\nBarriers and successes in introducing inclusion (Inclusion Cayman)\nPakistani perspectives on inclusion\nHow COVID-19 has affected the ability of youth with and without disabilities to form and maintain connections and the tools to make it happen\n\n 
URL:https://inclusionalberta.org/event/inclusion-alberta-youth-conference/
LOCATION:Alberta
CATEGORIES:Other
ORGANIZER;CN="Graycn Gaal":MAILTO:ggaal@inclusionalberta.org
END:VEVENT
BEGIN:VEVENT
DTSTART;TZID=America/Edmonton:20201024T090000
DTEND;TZID=America/Edmonton:20201024T120000
DTSTAMP:20260423T105207
CREATED:20201007T185319Z
LAST-MODIFIED:20201023T215713Z
UID:2878-1603530000-1603540800@inclusionalberta.org
SUMMARY:Navigating and Negotiating FSCD and FMS (PDD): An advocacy workshop for families
DESCRIPTION:Inclusion Edmonton Region and Inclusion Grande Prairie are excited to be offering this advocacy workshop. \nNavigating and Negotiating FSCD and FMS (PDD): An advocacy workshop for families \nSpeaker: Bruce Uditsky\, M.Ed. CEO Emeritus\, Inclusion Alberta \nMany families are finding it increasingly difficult to navigate and negotiate FSCD for children with disabilities and similarly to obtain FMS funding for adults with developmental disabilities.  Both Alberta’s fiscal challenges\, which are now further complicated by the Pandemic\, have added to the difficulties too many families routinely encounter in seeking support either for their child or their adult family member with developmental disabilities. The purpose of this workshop is to ensure families know their rights and choices\, understand the legislated purpose of both FSCD and FMS and how these are not being lived up to by the government\, learn about the benefits and risks associated with appealing government decisions\, prepare themselves for negotiating supports as effectively as possible and the necessity for collective action. \nBruce Uditsky was instrumental in the development of both FSCD and FMS as provincial programs and brings a wealth of experience both as a parent himself and someone who has supported thousands of families. \nFCSD – Family Supports for Children with Disabilities \nFMS – Family Managed Supports\, Persons with Developmental Disabilities Program (PDD) \nThis is a free virtual workshop on Oct. 24\, 2020 from 9:00 am – 12:00 pm. \nREGISTRATION IS NOW CLOSED \nAfter registering\, you will receive a confirmation email containing information about joining the meeting.
URL:https://inclusionalberta.org/event/navigating-and-negotiating-fscd-and-fms-pdd-an-advocacy-workshop-for-families/
LOCATION:Alberta
CATEGORIES:Other
ORGANIZER;CN="Aqeela Khalid":MAILTO:mail@inclusionedmonton.org
END:VEVENT
BEGIN:VEVENT
DTSTART;VALUE=DATE:20200924
DTEND;VALUE=DATE:20200925
DTSTAMP:20260423T105207
CREATED:20200714T204715Z
LAST-MODIFIED:20200820T170309Z
UID:2140-1600905600-1600991999@inclusionalberta.org
SUMMARY:The Peter Lee Golf Classic
DESCRIPTION:Please join us at the first annual Peter Lee Golf Classic! \nAndre Charrois and Foster Park Brokers are fabulous supporters of Inclusion Alberta. Foster Park Brokers became an employer through the Rotary Employment Partnership and hired a fabulous young man named Peter Lee. Peter is now an administrative assistant at Foster Park Brokers\, an invaluable and integral member of the team. \nThis year\, Andre wanted to combine a couple of different objectives: have fun on the golf course\, support Inclusion Alberta with raising some funds\, and celebrate those who are inclusive employers as well as introduce the idea of inclusive employment to others. From there\, the planning of the first annual Peter Lee Golf Classic began! \nIt goes without saying that because of Covid-19\, golf tournaments are going to look different\, we will be getting together with all of the appropriate safety measures in mind. \n  \nThe Peter Lee Golf Classic  \nThursday\, September 24\, 2020 \nRegistration starts at 7:00 am \nTeams will be given tee times starting at 9:00 AM. \nMeal provided at end of round. \nAt The Links Golf Course in Spruce Grove \n$150 Entry Fee per Golfer  \nCLICK TO REGISTER \n  \nTo sponsor a hole\, please contact  \nAndre Charrois        780-930-4438        andre.charrois@fosterpark.ca
URL:https://inclusionalberta.org/event/the-peter-lee-golf-classic/
LOCATION:Links at Spruce Grove\, 100 Links Rd\, Spruce Grove\, Alberta\, T7X 3B4\, Canada
CATEGORIES:Other
END:VEVENT
BEGIN:VEVENT
DTSTART;TZID=America/Edmonton:20200829T080000
DTEND;TZID=America/Edmonton:20200829T120000
DTSTAMP:20260423T105207
CREATED:20200805T213117Z
LAST-MODIFIED:20200810T160903Z
UID:2171-1598688000-1598702400@inclusionalberta.org
SUMMARY:Inclusion Edmonton Region Presents: Advocacy 101: Part 1
DESCRIPTION:Advocacy 101: Part 1\nIf you are a parent or ally of an individual with a developmental disability who wants to be included in community life\, then being an advocate is inevitable. Becoming an effective advocate is a skill that can be learned and improved upon over time.\nThis session will outline the strategies and ideas families need to consider in advocating for their child to obtain a quality inclusive education.\nPresenter: Bruce Uditsky M.Ed\, Chief Executive Officer\, Emeritus\nBruce is a nationally and internationally recognised advocate\, author\, and leader in the field of developmental disabilities\, in addition to being a parent himself.\nRegistration:\nRegister in advance for this meeting:\nhttps://us02web.zoom.us/meeting/register/tZUtc-CurDooGdS2Mm_Tj6JfyZNZgHPwDQsr\nContact:\nAqeela Khalid: (780) 721-1425\nmail@inclusionedmonton.org\n\n\n\n\n\n\n\n  \n\n\n\n\n\n\n\n 
URL:https://inclusionalberta.org/event/inclusion-edmonton-region-presents-advocacy-101-part-1/
LOCATION:Zoom
CATEGORIES:Other
ORGANIZER;CN="Inclusion Edmonton Region":MAILTO:mail@inclusionedmonton.org
END:VEVENT
BEGIN:VEVENT
DTSTART;VALUE=DATE:20200819
DTEND;VALUE=DATE:20200820
DTSTAMP:20260423T105207
CREATED:20200811T195622Z
LAST-MODIFIED:20200820T030812Z
UID:2229-1597795200-1597881599@inclusionalberta.org
SUMMARY:Getting Ready for the Return of School
DESCRIPTION:Since the government announced the return to school\, families have many questions about what learning will look like for their children in the fall.This is especially true for families who have children with developmental disabilities. \n\nInclusion Alberta is hosting an information and networking session for families who are interested in inclusive education and what that could look like in the fall. The purpose of this session is to gain an understanding of your experience and provide resources and ideas to support the transition back to schooling in the fall. \n\nWe would like to invite you to participate in a Zoom session on Wednesday August 19\, 2020. \nTo accommodate more schedules\, we are offering two different call times for the same session. The afternoon session runs between 2 pm – 3 pm and the evening session runs between 7 pm – 8 pm. Please register for ONE of the sessions. The session that you register for will give you an opportunity to learn\, share and connect with other families.\n\nTo register for the August 19th event\, please click ONE of the session times below: \n2:00 – 3:00 pm:  CLICK TO REGISTER\n \n7:00 – 8:00 pm:  CLICK TO REGISTER\n\nFor any questions or concerns\, please call Lissa Horyn at (587) 338-9121 or email: mhoryn@inclusionalberta.org\n\nSESSION MATERIALS:\nGetting Ready for School Together (1)
URL:https://inclusionalberta.org/event/getting-ready-for-the-return-of-school/
LOCATION:Zoom
CATEGORIES:Other
ORGANIZER;CN="Inclusion Alberta":MAILTO:mhoryn@inclusionalberta.org
END:VEVENT
END:VCALENDAR