BEGIN:VCALENDAR
VERSION:2.0
PRODID:-//Inclusion Alberta - ECPv6.11.2//NONSGML v1.0//EN
CALSCALE:GREGORIAN
METHOD:PUBLISH
X-WR-CALNAME:Inclusion Alberta
X-ORIGINAL-URL:https://inclusionalberta.org
X-WR-CALDESC:Events for Inclusion Alberta
REFRESH-INTERVAL;VALUE=DURATION:PT1H
X-Robots-Tag:noindex
X-PUBLISHED-TTL:PT1H
BEGIN:VTIMEZONE
TZID:America/Edmonton
BEGIN:DAYLIGHT
TZOFFSETFROM:-0700
TZOFFSETTO:-0600
TZNAME:MDT
DTSTART:20240310T090000
END:DAYLIGHT
BEGIN:STANDARD
TZOFFSETFROM:-0600
TZOFFSETTO:-0700
TZNAME:MST
DTSTART:20241103T080000
END:STANDARD
END:VTIMEZONE
BEGIN:VEVENT
DTSTART;TZID=America/Edmonton:20240319T180000
DTEND;TZID=America/Edmonton:20240319T200000
DTSTAMP:20260423T012818
CREATED:20240304T225217Z
LAST-MODIFIED:20240307T230957Z
UID:5501-1710871200-1710878400@inclusionalberta.org
SUMMARY:Finding employment for your family member with an intellectual disability(Edmonton)
DESCRIPTION:Finding employment for your family member with an intellectual disability \nWhen: Tuesday\, March 19th\, 2024 | 6pm-8pm \nWhere: Inclusion Alberta\, 11724 Kingsway\, Edmonton\, AB \nThis session is free\, but please register your spot here. \nEdmonton and area families and FMS staff are invited to join us for an in-person workshop on finding employment for your family member with an intellectual disability on Tuesday\, March 19th from 6pm-8pm. \nWe will offer practical advice and tips you can use now to help your family member secure meaningful paid employment. \nThe session will cover: \n\nTapping into a network for possibilities.\nCreating employment possibilities based on the interests of the individual.\nApproaching potential employers.\nStrategies for families and staff to ensure success in the workplace.\nFacilitating natural supports in the workplace.\nUsing FMS or FSDC funding to ensure successful on-the-job support.\n\nFamilies and FMS staff are encouraged to attend. \nRegister your free spot.
URL:https://inclusionalberta.org/event/finding-employment-for-your-family-member-with-an-intellectual-disability/
LOCATION:Inclusion Alberta Office\, 11724 Kingsway Avenue\, Edmonton\, Alberta\, T5G 0X5\, Canada
CATEGORIES:Other
END:VEVENT
END:VCALENDAR