BEGIN:VCALENDAR
VERSION:2.0
PRODID:-//Inclusion Alberta - ECPv6.11.2//NONSGML v1.0//EN
CALSCALE:GREGORIAN
METHOD:PUBLISH
X-ORIGINAL-URL:https://inclusionalberta.org
X-WR-CALDESC:Events for Inclusion Alberta
REFRESH-INTERVAL;VALUE=DURATION:PT1H
X-Robots-Tag:noindex
X-PUBLISHED-TTL:PT1H
BEGIN:VTIMEZONE
TZID:America/Edmonton
BEGIN:DAYLIGHT
TZOFFSETFROM:-0700
TZOFFSETTO:-0600
TZNAME:MDT
DTSTART:20230312T090000
END:DAYLIGHT
BEGIN:STANDARD
TZOFFSETFROM:-0600
TZOFFSETTO:-0700
TZNAME:MST
DTSTART:20231105T080000
END:STANDARD
END:VTIMEZONE
BEGIN:VEVENT
DTSTART;TZID=America/Edmonton:20231128T190000
DTEND;TZID=America/Edmonton:20231128T200000
DTSTAMP:20260423T143139
CREATED:20230920T205920Z
LAST-MODIFIED:20230921T160718Z
UID:5218-1701198000-1701201600@inclusionalberta.org
SUMMARY:DTC/RDSP virtual info session
DESCRIPTION:Join us for a free virtual info session to learn more about the Disability Tax Credit and the Registered Disability Savings Plan\, and how Inclusion Alberta can help you set them both up. \nREGISTER HERE.
URL:https://inclusionalberta.org/event/dtc-rdsp-virtual-info-session-3/
LOCATION:Virtual Event
CATEGORIES:Other
END:VEVENT
END:VCALENDAR