BEGIN:VCALENDAR
VERSION:2.0
PRODID:-//Inclusion Alberta - ECPv6.11.2//NONSGML v1.0//EN
CALSCALE:GREGORIAN
METHOD:PUBLISH
X-WR-CALNAME:Inclusion Alberta
X-ORIGINAL-URL:https://inclusionalberta.org
X-WR-CALDESC:Events for Inclusion Alberta
REFRESH-INTERVAL;VALUE=DURATION:PT1H
X-Robots-Tag:noindex
X-PUBLISHED-TTL:PT1H
BEGIN:VTIMEZONE
TZID:America/Edmonton
BEGIN:DAYLIGHT
TZOFFSETFROM:-0700
TZOFFSETTO:-0600
TZNAME:MDT
DTSTART:20260308T090000
END:DAYLIGHT
BEGIN:STANDARD
TZOFFSETFROM:-0600
TZOFFSETTO:-0700
TZNAME:MST
DTSTART:20261101T080000
END:STANDARD
END:VTIMEZONE
BEGIN:VEVENT
DTSTART;TZID=America/Edmonton:20260314T100000
DTEND;TZID=America/Edmonton:20260314T150000
DTSTAMP:20260422T172127
CREATED:20250919T214743Z
LAST-MODIFIED:20260220T193947Z
UID:6634-1773482400-1773500400@inclusionalberta.org
SUMMARY:Creating a Home (Calgary)
DESCRIPTION:2025/2026 FMS Learning Series  \nInclusion Alberta’s Darrell Cook Family Managed Supports Resource Centre  presents:  \nCreating A Home: Exploring Options Beyond the Four Walls  \nHome is more than a roof overhead—it’s the place where we feel safe\, shape our identity\, and experience belonging. For people with intellectual disabilities\, having a home of their own is just as essential as it is for anyone else. Yet\, rising housing costs and the default reliance on group living often makes it challenging to imagine other possibilities.  \nIn this session\, we’ll explore practical and creative approaches to making a home of one’s own possible. Families\, individuals and FMS staff will gain tools and strategies to design individualized support\, consider affordable and inclusive housing options\, and envision homes that truly reflect personal choice\, stage of life\, and individuality. Together\, we’ll look at how to move beyond traditional models and make “home” a reality.  \nKey takeaways:  \n\nVisioning and planning for a suitable home for your loved one \n\n\nUsing individualized funding (FMS) to create tailored home supports \n\n\nExploring creative and affordable housing strategies in today’s economy \n\n\nBuilding networks of support for long-term stability in community \n\nWorkshop Presenters: TBA  \nDate: March 14th\, 2026  \nTime: 10:00am – 3:00pm   \nLocation: Inglewood Community Association Hall\, 1740 24 Ave SE\, Calgary AB  \nRegistration link: https://forms.office.com/r/rABKpCcbib  
URL:https://inclusionalberta.org/event/creating-a-home-calgary/
LOCATION:Inglewood Community Centre\, 1740 24 Ave SE\, Calgary\, Alberta\, Canada
CATEGORIES:FMS Learning Series
END:VEVENT
END:VCALENDAR