BEGIN:VCALENDAR
VERSION:2.0
PRODID:-//Inclusion Alberta - ECPv6.11.2//NONSGML v1.0//EN
CALSCALE:GREGORIAN
METHOD:PUBLISH
X-ORIGINAL-URL:https://inclusionalberta.org
X-WR-CALDESC:Events for Inclusion Alberta
REFRESH-INTERVAL;VALUE=DURATION:PT1H
X-Robots-Tag:noindex
X-PUBLISHED-TTL:PT1H
BEGIN:VTIMEZONE
TZID:America/Edmonton
BEGIN:DAYLIGHT
TZOFFSETFROM:-0700
TZOFFSETTO:-0600
TZNAME:MDT
DTSTART:20260308T090000
END:DAYLIGHT
BEGIN:STANDARD
TZOFFSETFROM:-0600
TZOFFSETTO:-0700
TZNAME:MST
DTSTART:20261101T080000
END:STANDARD
END:VTIMEZONE
BEGIN:VEVENT
DTSTART;TZID=America/Edmonton:20260207T100000
DTEND;TZID=America/Edmonton:20260207T150000
DTSTAMP:20260422T215032
CREATED:20250919T214653Z
LAST-MODIFIED:20250925T135310Z
UID:6632-1770458400-1770476400@inclusionalberta.org
SUMMARY:Friendship\, Belonging\, and Community: Creating Pathways to Connection (Calgary)
DESCRIPTION:2025/2026 FMS Learning Series  \nInclusion Alberta’s Darrell Cook Family Managed Supports Resource Centre presents:  \nFriendship\, Belonging\, and Community: Creating Pathways to Connection  \nFriendships and social connections are at the heart of living a good life. They bring joy\, support\, and a sense of belonging\, helping us weather challenges and celebrate milestones together. Yet too many people with intellectual disabilities experience loneliness and isolation\, which deeply impacts health and well-being.  \nThis engaging session will explore practical strategies for creating opportunities that spark community engagement and foster genuine relationships. Families\, individuals and FMS or FSCD staff will gain tools to support people with intellectual disabilities in building authentic connections rooted in their unique interests and strengths. Together\, we’ll discover how support staff can serve as bridges to friendship\, and how communities can open doors to belonging.  \nKey takeaways:  \n\nFostering belonging and connection in everyday community life \n\n\nUsing individual talents and interests as catalysts for relationships \n\n\nCreating inclusive opportunities through community pathways \n\n\nSupporting the development of natural and lasting friendships \n\n  \nWorkshop Presenters: TBA  \nDate: February 7th\, 2026  \nTime: 10:00am – 3:00pm   \nLocation: Inglewood Community Association Hall\, 1740 24 Ave SE\, Calgary AB  \nRegistration Link: https://forms.office.com/r/Nme8EVxszV  
URL:https://inclusionalberta.org/event/creating-and-facilitating-relationships-through-community-engagement-calgary/
LOCATION:Inglewood Community Centre\, 1740 24 Ave SE\, Calgary\, Alberta\, Canada
CATEGORIES:FMS Learning Series
END:VEVENT
END:VCALENDAR