BEGIN:VCALENDAR
VERSION:2.0
PRODID:-//Inclusion Alberta - ECPv6.11.2//NONSGML v1.0//EN
CALSCALE:GREGORIAN
METHOD:PUBLISH
X-WR-CALNAME:Inclusion Alberta
X-ORIGINAL-URL:https://inclusionalberta.org
X-WR-CALDESC:Events for Inclusion Alberta
REFRESH-INTERVAL;VALUE=DURATION:PT1H
X-Robots-Tag:noindex
X-PUBLISHED-TTL:PT1H
BEGIN:VTIMEZONE
TZID:America/Edmonton
BEGIN:DAYLIGHT
TZOFFSETFROM:-0700
TZOFFSETTO:-0600
TZNAME:MDT
DTSTART:20260308T090000
END:DAYLIGHT
BEGIN:STANDARD
TZOFFSETFROM:-0600
TZOFFSETTO:-0700
TZNAME:MST
DTSTART:20261101T080000
END:STANDARD
END:VTIMEZONE
BEGIN:VEVENT
DTSTART;TZID=America/Edmonton:20260203T183000
DTEND;TZID=America/Edmonton:20260203T203000
DTSTAMP:20260422T214711
CREATED:20260115T183752Z
LAST-MODIFIED:20260115T183752Z
UID:6866-1770143400-1770150600@inclusionalberta.org
SUMMARY:FMS Staff Hiring (virtual)
DESCRIPTION:2025/2026 FMS Learning Series  \nInclusion Alberta’s Darrell Cook Family Managed Supports Resource Centre presents:  \nFMS Staff Hiring\nHiring and training new staff is one of the most important responsibilities for families using individualized funding through FMS/FSCD. A thoughtful and well-structured process ensures that staff are set up for success in supporting your family members. Families and Fund Administrators play a critical role in shaping and maintaining strong\, respectful working relationships with their staff.   \nJoin us for a session that provides practical guidance on staff hiring processes. We will explore how to conduct interviews\, complete reference and police checks and clarify the difference between employees and contractors (self-employed). Participants will learn how to communicate clear job expectations\, review administrative requirements\, and establish effective communication practices.   \nKey concepts include:   \n\nConducting effective pre-screening processes and interviews \n\n\nUnderstanding responsibilities with employees or contractor (self-employed) staff  \n\n\nSetting clear expectations for staff  \n\n\nManaging required documentation  \n\nWorkshop Presenters: Kate Hughson & Sydney Bachynsky  \nDate: February 3\, 2026  \nTime: 6:30 pm – 8:30 pm  \nLocation: VIRTUAL  \nRegistration Link: https://us06web.zoom.us/meeting/register/rnUp7gnKQrKpPZKPqaRg4Q   \n 
URL:https://inclusionalberta.org/event/fms-staff-hiring-virtual/
LOCATION:Virtual Event
CATEGORIES:FMS Learning Series
END:VEVENT
END:VCALENDAR