BEGIN:VCALENDAR
VERSION:2.0
PRODID:-//Inclusion Alberta - ECPv6.11.2//NONSGML v1.0//EN
CALSCALE:GREGORIAN
METHOD:PUBLISH
X-ORIGINAL-URL:https://inclusionalberta.org
X-WR-CALDESC:Events for Inclusion Alberta
REFRESH-INTERVAL;VALUE=DURATION:PT1H
X-Robots-Tag:noindex
X-PUBLISHED-TTL:PT1H
BEGIN:VTIMEZONE
TZID:America/Edmonton
BEGIN:DAYLIGHT
TZOFFSETFROM:-0700
TZOFFSETTO:-0600
TZNAME:MDT
DTSTART:20250309T090000
END:DAYLIGHT
BEGIN:STANDARD
TZOFFSETFROM:-0600
TZOFFSETTO:-0700
TZNAME:MST
DTSTART:20251102T080000
END:STANDARD
END:VTIMEZONE
BEGIN:VEVENT
DTSTART;TZID=America/Edmonton:20251106T183000
DTEND;TZID=America/Edmonton:20251106T210000
DTSTAMP:20260423T103910
CREATED:20250919T214600Z
LAST-MODIFIED:20251007T213834Z
UID:6630-1762453800-1762462800@inclusionalberta.org
SUMMARY:Positive Approaches to Behaviour (Calgary)
DESCRIPTION:2025/2026 FMS Learning Series  \nInclusion Alberta’s Darrell Cook Family Managed Supports Resource Centre  presents:   \nPositive Approaches to Behaviour \nBehaviour is one of the most powerful ways people express themselves and communicate their needs\, feelings and experiences. Yet\, too often\, behaviour is mislabeled as challenging or complex\, leading to misunderstanding\, isolation or even punitive responses rather than meaningful support.   \nJoin us in a session exploring how people with intellectual disabilities are frequently misunderstood and how we can shift our perspective to recognize behaviour as communication. Participants will be introduced to positive and practical approaches that can be used by families\, FMS or FSCD staff and service providers to better understand and respond to communication. By changing how we see\, consider and respond to behaviour; we can create environments where people feel understood\, valued and are able to thrive.   \nKey concepts include:   \n\nReframing behaviour\, by seeking to understand what being communicated  \n\n\nRecognizing the impacts of loneliness and unmet needs  \n\n\nApplying principles of Trauma-Informed-Care  \n\n\nSupporting stability and belonging at home and in community  \n\nDate: November 6th\, 2025  \nTime: 6:30pm – 9:00pm  \nWorkshop Presenters: Arne Fulton  \nLocation: Inglewood Community Association Hall\, 1740 24 Ave SE\, Calgary AB  \nRegistration Link: https://forms.office.com/r/cwBM6GXpgT   
URL:https://inclusionalberta.org/event/positive-approaches-to-behaviour-calgary/
LOCATION:Inglewood Community Centre\, 1740 24 Ave SE\, Calgary\, Alberta\, Canada
CATEGORIES:FMS Learning Series
END:VEVENT
END:VCALENDAR